BEGIN:VCALENDAR
VERSION:2.0
PRODID:-//Henry County Historical Society &amp; Museum - ECPv6.15.20//NONSGML v1.0//EN
CALSCALE:GREGORIAN
METHOD:PUBLISH
X-ORIGINAL-URL:https://henrycountymuseum.org
X-WR-CALDESC:Events for Henry County Historical Society &amp; Museum
REFRESH-INTERVAL;VALUE=DURATION:PT1H
X-Robots-Tag:noindex
X-PUBLISHED-TTL:PT1H
BEGIN:VTIMEZONE
TZID:America/Indiana/Indianapolis
BEGIN:DAYLIGHT
TZOFFSETFROM:-0500
TZOFFSETTO:-0400
TZNAME:EDT
DTSTART:20240310T070000
END:DAYLIGHT
BEGIN:STANDARD
TZOFFSETFROM:-0400
TZOFFSETTO:-0500
TZNAME:EST
DTSTART:20241103T060000
END:STANDARD
BEGIN:DAYLIGHT
TZOFFSETFROM:-0500
TZOFFSETTO:-0400
TZNAME:EDT
DTSTART:20250309T070000
END:DAYLIGHT
BEGIN:STANDARD
TZOFFSETFROM:-0400
TZOFFSETTO:-0500
TZNAME:EST
DTSTART:20251102T060000
END:STANDARD
BEGIN:DAYLIGHT
TZOFFSETFROM:-0500
TZOFFSETTO:-0400
TZNAME:EDT
DTSTART:20260308T070000
END:DAYLIGHT
BEGIN:STANDARD
TZOFFSETFROM:-0400
TZOFFSETTO:-0500
TZNAME:EST
DTSTART:20261101T060000
END:STANDARD
END:VTIMEZONE
BEGIN:VEVENT
DTSTART;TZID=America/Indiana/Indianapolis:20251220T140000
DTEND;TZID=America/Indiana/Indianapolis:20251220T160000
DTSTAMP:20260421T195320
CREATED:20251106T040644Z
LAST-MODIFIED:20251216T035939Z
UID:6645-1766239200-1766246400@henrycountymuseum.org
SUMMARY:2025 Holiday Open House
DESCRIPTION:  \n \nStop in to see the holiday decor and enjoy some festive treats!
URL:https://henrycountymuseum.org/event/2025-holiday-open-house/
LOCATION:Henry County Historical Society & Museum\, 606 South 14th Street\, New Castle\, IN\, 47362\, United States
CATEGORIES:Event
ATTACH;FMTTYPE=image/jpeg:https://henrycountymuseum.org/wp-content/uploads/2025/11/599929996_25818443714440473_5927162312182160233_n.jpg
ORGANIZER;CN="Henry County Historical Society":MAILTO:HenryCountyMuseum@gmail.com
END:VEVENT
BEGIN:VEVENT
DTSTART;TZID=America/Indiana/Indianapolis:20251001T183000
DTEND;TZID=America/Indiana/Indianapolis:20251001T200000
DTSTAMP:20260421T195320
CREATED:20250915T212941Z
LAST-MODIFIED:20250915T213102Z
UID:6907-1759343400-1759348800@henrycountymuseum.org
SUMMARY:Paul Landis Presentation
DESCRIPTION:Paul Landis\, former Secret Service agent for John F. Kennedy\, Jr.\, and author of Final Witness\, will be talking on Wednesday\, October 1\, at 6:30 p.m. ET at the First Friends Church\, located at 503 South Main Street in New Castle\, IN.  Proceeds to benefit HCHS 100%. \nThank you to both Mr. Landis and the First Friends Church for hosting this riveting presentation! \nTo purchase a general admission ticket for $20\, please click here to go to PayPal. \nThank you for your support!
URL:https://henrycountymuseum.org/event/paul-landis-presentation/
LOCATION:First Friends Church\, 503 South Main Street\, New Castle\, IN\, 47362\, United States
CATEGORIES:Presentation
ATTACH;FMTTYPE=image/jpeg:https://henrycountymuseum.org/wp-content/uploads/2025/09/IMG_0239.jpg
ORGANIZER;CN="Henry County Historical Society":MAILTO:HenryCountyMuseum@gmail.com
END:VEVENT
BEGIN:VEVENT
DTSTART;TZID=America/Indiana/Indianapolis:20250821T180000
DTEND;TZID=America/Indiana/Indianapolis:20250821T190000
DTSTAMP:20260421T195320
CREATED:20250729T182823Z
LAST-MODIFIED:20250729T184139Z
UID:6874-1755799200-1755802800@henrycountymuseum.org
SUMMARY:Interurban in Henry County: One Way to Get Around
DESCRIPTION:Join Darrel Radford\, Henry County Historian\, for a talk about the Interurban’s history in Henry County!  Free and all welcome!
URL:https://henrycountymuseum.org/event/interurban-in-henry-county-one-way-to-get-around/
LOCATION:Henry County Historical Society & Museum\, 606 South 14th Street\, New Castle\, IN\, 47362\, United States
CATEGORIES:Presentation
ATTACH;FMTTYPE=image/png:https://henrycountymuseum.org/wp-content/uploads/2025/07/Interurban.png
ORGANIZER;CN="Henry County Historical Society":MAILTO:HenryCountyMuseum@gmail.com
END:VEVENT
BEGIN:VEVENT
DTSTART;TZID=America/Indiana/Indianapolis:20250502T190000
DTEND;TZID=America/Indiana/Indianapolis:20250502T210000
DTSTAMP:20260421T195320
CREATED:20250408T183825Z
LAST-MODIFIED:20250408T183825Z
UID:6755-1746212400-1746219600@henrycountymuseum.org
SUMMARY:A Special Evening with Kevin Stonerock
DESCRIPTION:Enjoy an up-close and personal musical event with Hoosier songwriter Kevin Stonerock.  Stonerock has graciously donated his time and expertise to spend the evening of Friday\, May 2\, from 7-9 p.m.\, performing for the historic preservation of Henry County history. \nAll ticket proceeds will benefit the Henry County Historical Society & Museum 100%. \nStonerock will have CDs for sale. \nLimited seating. \nTickets: \n$15 HCHS Members \n$20 Nonmembers \n$40 Register and join HCHS as an Individual Member for 1 year \nPlease purchase tickets here.
URL:https://henrycountymuseum.org/event/a-special-evening-with-kevin-stonerock/
LOCATION:Henry County Historical Society & Museum\, 606 South 14th Street\, New Castle\, IN\, 47362\, United States
CATEGORIES:Event
ATTACH;FMTTYPE=image/jpeg:https://henrycountymuseum.org/wp-content/uploads/2025/03/HCHS-corrected-Concert-Poster-May-2025.jpg
ORGANIZER;CN="Henry County Historical Society":MAILTO:HenryCountyMuseum@gmail.com
END:VEVENT
BEGIN:VEVENT
DTSTART;TZID=America/Indiana/Indianapolis:20250427T140000
DTEND;TZID=America/Indiana/Indianapolis:20250427T160000
DTSTAMP:20260421T195320
CREATED:20250209T232812Z
LAST-MODIFIED:20250209T232812Z
UID:6621-1745762400-1745769600@henrycountymuseum.org
SUMMARY:138th Annual Meeting
DESCRIPTION:Join us on Sunday\, April 27\, 2025\, at our 138th Annual Meeting.  The event begins at 2 p.m.  We will be celebrating the Grand Army of the Republic with speaker Ron Darrah from the Indiana Genealogical Society.  The 2025 exhibit\, Exploring the GAR in Henry County\, opens.  Election of HCHS Board Trustees is on the agenda.  This event is free and open to the public.  Donations are always welcome!
URL:https://henrycountymuseum.org/event/138th-annual-meeting/
LOCATION:Henry County Historical Society & Museum\, 606 South 14th Street\, New Castle\, IN\, 47362\, United States
CATEGORIES:Annual Meeting
ATTACH;FMTTYPE=image/png:https://henrycountymuseum.org/wp-content/uploads/2025/02/138th-Annual-Meeting-.png
ORGANIZER;CN="Henry County Historical Society":MAILTO:HenryCountyMuseum@gmail.com
END:VEVENT
BEGIN:VEVENT
DTSTART;TZID=America/Indiana/Indianapolis:20250403T180000
DTEND;TZID=America/Indiana/Indianapolis:20250403T190000
DTSTAMP:20260421T195320
CREATED:20250211T235318Z
LAST-MODIFIED:20250212T000305Z
UID:6629-1743703200-1743706800@henrycountymuseum.org
SUMMARY:Tornadoes in Henry County History
DESCRIPTION:Learn more about historic tornadoes that have touched down in Henry County with HCHS Co-Director Darrel Radford. \nThis event is free and open to the public.  Donations are always welcome!
URL:https://henrycountymuseum.org/event/tornadoes-in-henry-county-history/
LOCATION:Henry County Historical Society & Museum\, 606 South 14th Street\, New Castle\, IN\, 47362\, United States
CATEGORIES:Presentation
ATTACH;FMTTYPE=image/png:https://henrycountymuseum.org/wp-content/uploads/2025/02/Tornado-Talk-2025.png
ORGANIZER;CN="Henry County Historical Society":MAILTO:HenryCountyMuseum@gmail.com
END:VEVENT
BEGIN:VEVENT
DTSTART;TZID=America/Indiana/Indianapolis:20250320T180000
DTEND;TZID=America/Indiana/Indianapolis:20250320T190000
DTSTAMP:20260421T195320
CREATED:20250209T225659Z
LAST-MODIFIED:20250209T235742Z
UID:6612-1742493600-1742497200@henrycountymuseum.org
SUMMARY:Whatever Happened to Catherine Winters?  Presentation by Darrel Radford
DESCRIPTION:Learn more about the mysterious disappearance of 9-year-old Catherine Winters on March 20\, 1913\, from the midday streets of New Castle.  HCHS Co-Director Darrel Radford will walk you through several different theories.  Catherine Winters was never found. \nThis event is free and open to the public.  Donations are always welcome!
URL:https://henrycountymuseum.org/event/whatever-happened-to-catherine-winters-presentation-by-darrel-radford/
LOCATION:Henry County Historical Society & Museum\, 606 South 14th Street\, New Castle\, IN\, 47362\, United States
CATEGORIES:Presentation
ATTACH;FMTTYPE=image/png:https://henrycountymuseum.org/wp-content/uploads/2025/02/Catherine-Winters-promo-flyer.png
ORGANIZER;CN="Henry County Historical Society":MAILTO:HenryCountyMuseum@gmail.com
END:VEVENT
BEGIN:VEVENT
DTSTART;TZID=America/Indiana/Indianapolis:20250315T140000
DTEND;TZID=America/Indiana/Indianapolis:20250315T150000
DTSTAMP:20260421T195320
CREATED:20250209T223120Z
LAST-MODIFIED:20250209T234531Z
UID:6599-1742047200-1742050800@henrycountymuseum.org
SUMMARY:Getting It Together: Genealogical Organization (Traditional and Digital) - Webinar
DESCRIPTION:Special webinar presented by Accredited Genealogist® and HCHS Co-Director Kaye Ford.  Members of the Henry County Genealogy Alliance (HCGA) receive complimentary registration.  Donations to our genealogical digitization efforts are always welcome!
URL:https://henrycountymuseum.org/event/getting-it-together-genealogical-organization-traditional-and-digital-webinar/
LOCATION:Webinar\, IN\, 47362\, United States
CATEGORIES:Webinar
ATTACH;FMTTYPE=image/png:https://henrycountymuseum.org/wp-content/uploads/2025/02/social-media-image.png
ORGANIZER;CN="Henry County Historical Society":MAILTO:HenryCountyMuseum@gmail.com
END:VEVENT
BEGIN:VEVENT
DTSTART;TZID=America/Indiana/Indianapolis:20250227T180000
DTEND;TZID=America/Indiana/Indianapolis:20250227T190000
DTSTAMP:20260421T195320
CREATED:20250209T214734Z
LAST-MODIFIED:20250209T230353Z
UID:6596-1740679200-1740682800@henrycountymuseum.org
SUMMARY:Celebrating Black History Month with Ricky Cottman
DESCRIPTION:Spend an evening learning more about Henry County’s rich Black history with local author Ricky Cottman.  This event is free and open to the public.  Donations are always welcome!
URL:https://henrycountymuseum.org/event/celebrating-black-history-month-with-ricky-cottman/
LOCATION:Henry County Historical Society & Museum\, 606 South 14th Street\, New Castle\, IN\, 47362\, United States
CATEGORIES:Presentation
ATTACH;FMTTYPE=image/png:https://henrycountymuseum.org/wp-content/uploads/2025/02/Celebrate-Black-History-Month-with-HCHS-2025-1.png
ORGANIZER;CN="Henry County Historical Society":MAILTO:HenryCountyMuseum@gmail.com
END:VEVENT
END:VCALENDAR